BEGIN:VCALENDAR
VERSION:2.0
PRODID:skolkovo.ru
X-WR-CALNAME:Казань. Знакомство со СКОЛКОВО onlin
 e
X-WR-TIMEZONE:Europe/Moscow
BEGIN:VTIMEZONE
TZID:Europe/Moscow
X-LIC-LOCATION:Europe/Moscow
END:VTIMEZONE
BEGIN:VEVENT
UID:69e90b42b4c01
DTSTART:20241218T080000Z
SEQUENCE:0
TRANSP:OPAQUE
DTEND:20241218T090000Z
LOCATION:онлайн
SUMMARY:Казань. Знакомство со СКОЛКОВО online
CLASS:PUBLIC
DESCRIPTION:Вебинар\nКазань. Знакомство со СКО
 ЛКОВО online\n
ORGANIZER;CN=СКОЛКОВО:MAILTO:info@skolkovo.ru
DTSTAMP:20260422T175410Z
END:VEVENT
END:VCALENDAR