BEGIN:VCALENDAR
VERSION:2.0
PRODID:skolkovo.ru
X-WR-CALNAME:Карьерный навигатор для подростк
 ов: летний интенсив
X-WR-TIMEZONE:Europe/Moscow
BEGIN:VTIMEZONE
TZID:Europe/Moscow
X-LIC-LOCATION:Europe/Moscow
END:VTIMEZONE
BEGIN:VEVENT
UID:69e6b52b175e7
DTSTART:20260628T070000Z
SEQUENCE:0
TRANSP:OPAQUE
DTEND:20260630T205900Z
SUMMARY:Карьерный навигатор для подростков: 
 летний интенсив
CLASS:PUBLIC
DESCRIPTION:Образовательная программа\nКарьер
 ный навигатор для подростков: летний инт
 енсив\n
ORGANIZER;CN=СКОЛКОВО:MAILTO:info@skolkovo.ru
DTSTAMP:20260420T232219Z
END:VEVENT
END:VCALENDAR