BEGIN:VCALENDAR
VERSION:2.0
PRODID:skolkovo.ru
X-WR-CALNAME:Здравоохранение Сингапура: иннов
 ации и эффективность
X-WR-TIMEZONE:Europe/Moscow
BEGIN:VTIMEZONE
TZID:Europe/Moscow
X-LIC-LOCATION:Europe/Moscow
END:VTIMEZONE
BEGIN:VEVENT
UID:69e8ed1dc019b
DTSTART:20250130T080000Z
SEQUENCE:0
TRANSP:OPAQUE
DTEND:20250131T090000Z
LOCATION:ZOOM
SUMMARY:Здравоохранение Сингапура: инноваци
 и и эффективность
CLASS:PUBLIC
DESCRIPTION:Вебинар\nЗдравоохранение Сингапур
 а: инновации и эффективность\n
ORGANIZER;CN=СКОЛКОВО:MAILTO:info@skolkovo.ru
DTSTAMP:20260422T154533Z
END:VEVENT
END:VCALENDAR