BEGIN:VCALENDAR
VERSION:2.0
PRODID:skolkovo.ru
X-WR-CALNAME:Как научиться управлять своим раз
 витием
X-WR-TIMEZONE:Europe/Moscow
BEGIN:VTIMEZONE
TZID:Europe/Moscow
X-LIC-LOCATION:Europe/Moscow
END:VTIMEZONE
BEGIN:VEVENT
UID:69e909ceda531
DTSTART:20250312T140000Z
SEQUENCE:0
TRANSP:OPAQUE
DTEND:20250312T180000Z
LOCATION:Москва\, Noôdome
SUMMARY:Как научиться управлять своим разви
 тием
CLASS:PUBLIC
DESCRIPTION:Дискуссия\nКак научиться управлят
 ь своим развитием\n
ORGANIZER;CN=СКОЛКОВО:MAILTO:info@skolkovo.ru
DTSTAMP:20260422T174758Z
END:VEVENT
END:VCALENDAR