BEGIN:VCALENDAR
VERSION:2.0
PRODID:skolkovo.ru
X-WR-CALNAME:Искусственный интеллект с культу
 рным акцентом: во что верят LLM?
X-WR-TIMEZONE:Europe/Moscow
BEGIN:VTIMEZONE
TZID:Europe/Moscow
X-LIC-LOCATION:Europe/Moscow
END:VTIMEZONE
BEGIN:VEVENT
UID:69ea8add33ffb
DTSTART:20250225T140000Z
SEQUENCE:0
TRANSP:OPAQUE
DTEND:20250225T153000Z
LOCATION:очно на кампусе СКОЛКОВО
SUMMARY:Искусственный интеллект с культурны
 м акцентом: во что верят LLM?
CLASS:PUBLIC
DESCRIPTION:Исследование\nИскусственный интел
 лект с культурным акцентом: во что верят 
 LLM?\n
ORGANIZER;CN=СКОЛКОВО:MAILTO:info@skolkovo.ru
DTSTAMP:20260423T211053Z
END:VEVENT
END:VCALENDAR