BEGIN:VCALENDAR
VERSION:2.0
PRODID:skolkovo.ru
X-WR-CALNAME:Креативная сфера. Экономика впеча
 тлений: бизнес и виртуальные миры
X-WR-TIMEZONE:Europe/Moscow
BEGIN:VTIMEZONE
TZID:Europe/Moscow
X-LIC-LOCATION:Europe/Moscow
END:VTIMEZONE
BEGIN:VEVENT
UID:69ea32776f1d9
DTSTART:20250312T080000Z
SEQUENCE:0
TRANSP:OPAQUE
DTEND:20250312T120000Z
LOCATION:Школа управления СКОЛКОВО\, ауд. Кей
 птаун (сессии) + Дакар (демо кейсов)\, клас
 тер Африка
SUMMARY:Креативная сфера. Экономика впечатл
 ений: бизнес и виртуальные миры
CLASS:PUBLIC
DESCRIPTION:Очное мероприятие\nКреативная сфе
 ра. Экономика впечатлений: бизнес и вирт
 уальные миры\n
ORGANIZER;CN=СКОЛКОВО:MAILTO:info@skolkovo.ru
DTSTAMP:20260423T145343Z
END:VEVENT
END:VCALENDAR