BEGIN:VCALENDAR
VERSION:2.0
PRODID:skolkovo.ru
X-WR-CALNAME:Ошибки в клинике: как не допустить
  их на старте и исправить в уже работающе
 м бизнесе
X-WR-TIMEZONE:Europe/Moscow
BEGIN:VTIMEZONE
TZID:Europe/Moscow
X-LIC-LOCATION:Europe/Moscow
END:VTIMEZONE
BEGIN:VEVENT
UID:69e8ed18479e3
DTSTART:20250304T100000Z
SEQUENCE:0
TRANSP:OPAQUE
DTEND:20270310T110000Z
LOCATION:онлайн\, прямая трансляция в ZOOM
SUMMARY:Ошибки в клинике: как не допустить их
  на старте и исправить в уже работающем б
 изнесе
CLASS:PUBLIC
DESCRIPTION:Презентация программы\nОшибки в кл
 инике: как не допустить их на старте и ис
 править в уже работающем бизнесе\n
ORGANIZER;CN=СКОЛКОВО:MAILTO:info@skolkovo.ru
DTSTAMP:20260422T154528Z
END:VEVENT
END:VCALENDAR