BEGIN:VCALENDAR
VERSION:2.0
PRODID:skolkovo.ru
X-WR-CALNAME:Путь героя: как становятся лидера
 ми
X-WR-TIMEZONE:Europe/Moscow
BEGIN:VTIMEZONE
TZID:Europe/Moscow
X-LIC-LOCATION:Europe/Moscow
END:VTIMEZONE
BEGIN:VEVENT
UID:69e59052ad6c6
DTSTART:20250225T163000Z
SEQUENCE:0
TRANSP:OPAQUE
DTEND:20250225T173000Z
LOCATION:Zoom\, бесплатно
SUMMARY:Путь героя: как становятся лидерами
CLASS:PUBLIC
DESCRIPTION:Мастер-класс\nПуть героя: как стано
 вятся лидерами\n
ORGANIZER;CN=СКОЛКОВО:MAILTO:info@skolkovo.ru
DTSTAMP:20260420T023250Z
END:VEVENT
END:VCALENDAR