BEGIN:VCALENDAR
VERSION:2.0
PRODID:skolkovo.ru
X-WR-CALNAME:Московская школа управления СКОЛ
 КОВО: Международное признание и стратег
 ия развития
X-WR-TIMEZONE:Europe/Moscow
BEGIN:VTIMEZONE
TZID:Europe/Moscow
X-LIC-LOCATION:Europe/Moscow
END:VTIMEZONE
BEGIN:VEVENT
UID:69e8f1015aade
DTSTART:20191223T070000Z
SEQUENCE:0
TRANSP:OPAQUE
DTEND:20191223T083000Z
LOCATION:трансляция из бизнес-школы СКОЛКОВО
SUMMARY:Московская школа управления СКОЛКОВ
 О: Международное признание и стратегия р
 азвития
CLASS:PUBLIC
DESCRIPTION:Конференция\nМосковская школа упр
 авления СКОЛКОВО: Международное признан
 ие и стратегия развития\n
ORGANIZER;CN=СКОЛКОВО:MAILTO:info@skolkovo.ru
DTSTAMP:20260422T160209Z
END:VEVENT
END:VCALENDAR