BEGIN:VCALENDAR
VERSION:2.0
PRODID:skolkovo.ru
X-WR-CALNAME:Стратегия работы на маркетплейса
 х 2025
X-WR-TIMEZONE:Europe/Moscow
BEGIN:VTIMEZONE
TZID:Europe/Moscow
X-LIC-LOCATION:Europe/Moscow
END:VTIMEZONE
BEGIN:VEVENT
UID:69ea3156c6414
DTSTART:20250303T140000Z
SEQUENCE:0
TRANSP:OPAQUE
DTEND:20250303T153000Z
LOCATION:онлайн
SUMMARY:Стратегия работы на маркетплейсах 202
 5
CLASS:PUBLIC
DESCRIPTION:Презентация программы\nСтратегия 
 работы на маркетплейсах 2025\n
ORGANIZER;CN=СКОЛКОВО:MAILTO:info@skolkovo.ru
DTSTAMP:20260423T144854Z
END:VEVENT
END:VCALENDAR