BEGIN:VCALENDAR
VERSION:2.0
PRODID:skolkovo.ru
X-WR-CALNAME:SMART-фарма: от стратегии до эффекти
 вных инструментов
X-WR-TIMEZONE:Europe/Moscow
BEGIN:VTIMEZONE
TZID:Europe/Moscow
X-LIC-LOCATION:Europe/Moscow
END:VTIMEZONE
BEGIN:VEVENT
UID:69e8ed2f68bb9
DTSTART:20250415T090000Z
SEQUENCE:0
TRANSP:OPAQUE
DTEND:20250416T100000Z
LOCATION:онлайн\, трансляция в ZOOM
SUMMARY:SMART-фарма: от стратегии до эффективны
 х инструментов
CLASS:PUBLIC
DESCRIPTION:Презентация программы\nSMART-фарма: о
 т стратегии до эффективных инструментов
 \n
ORGANIZER;CN=СКОЛКОВО:MAILTO:info@skolkovo.ru
DTSTAMP:20260422T154551Z
END:VEVENT
END:VCALENDAR