BEGIN:VCALENDAR
VERSION:2.0
PRODID:skolkovo.ru
X-WR-CALNAME:Цифровой код лидерства: работа с к
 омандами в цифровом бизнесе
X-WR-TIMEZONE:Europe/Moscow
BEGIN:VTIMEZONE
TZID:Europe/Moscow
X-LIC-LOCATION:Europe/Moscow
END:VTIMEZONE
BEGIN:VEVENT
UID:69ebdb9c7c06f
DTSTART:20250424T073000Z
SEQUENCE:0
TRANSP:OPAQUE
DTEND:20250424T100000Z
LOCATION:кампус СКОЛКОВО\, аудитория B 9.1
SUMMARY:Цифровой код лидерства: работа с ком
 андами в цифровом бизнесе
CLASS:PUBLIC
DESCRIPTION:Мероприятие\nЦифровой код лидерст
 ва: работа с командами в цифровом бизнес
 е\n
ORGANIZER;CN=СКОЛКОВО:MAILTO:info@skolkovo.ru
DTSTAMP:20260424T210740Z
END:VEVENT
END:VCALENDAR