BEGIN:VCALENDAR
VERSION:2.0
PRODID:skolkovo.ru
X-WR-CALNAME:Игра за будущее
X-WR-TIMEZONE:Europe/Moscow
BEGIN:VTIMEZONE
TZID:Europe/Moscow
X-LIC-LOCATION:Europe/Moscow
END:VTIMEZONE
BEGIN:VEVENT
UID:69e9ef2fe0daf
DTSTART:20260423T100639Z
SEQUENCE:0
TRANSP:OPAQUE
DTEND:20260630T090000Z
SUMMARY:Игра за будущее
CLASS:PUBLIC
DESCRIPTION:Мастер-класс\nИгра за будущее\n
ORGANIZER;CN=СКОЛКОВО:MAILTO:info@skolkovo.ru
DTSTAMP:20260423T100639Z
END:VEVENT
END:VCALENDAR