BEGIN:VCALENDAR
VERSION:2.0
PRODID:skolkovo.ru
X-WR-CALNAME:Как раскрыть свой лидерский потен
 циал и вдохновлять команду на выдающиес
 я результаты?
X-WR-TIMEZONE:Europe/Moscow
BEGIN:VTIMEZONE
TZID:Europe/Moscow
X-LIC-LOCATION:Europe/Moscow
END:VTIMEZONE
BEGIN:VEVENT
UID:69e59052ad6bc
DTSTART:20250414T140000Z
SEQUENCE:0
TRANSP:OPAQUE
DTEND:20250414T150000Z
LOCATION:online\, zoom
SUMMARY:Как раскрыть свой лидерский потенци
 ал и вдохновлять команду на выдающиеся р
 езультаты?
CLASS:PUBLIC
DESCRIPTION:Презентация программы\nКак раскры
 ть свой лидерский потенциал и вдохновля
 ть команду на выдающиеся результаты?\n
ORGANIZER;CN=СКОЛКОВО:MAILTO:info@skolkovo.ru
DTSTAMP:20260420T023250Z
END:VEVENT
END:VCALENDAR