BEGIN:VCALENDAR
VERSION:2.0
PRODID:skolkovo.ru
X-WR-CALNAME:Операционная эффективность и сил
 ьный бренд: фундамент успеха современно
 й клиники
X-WR-TIMEZONE:Europe/Moscow
BEGIN:VTIMEZONE
TZID:Europe/Moscow
X-LIC-LOCATION:Europe/Moscow
END:VTIMEZONE
BEGIN:VEVENT
UID:69e8ecd1b08cc
DTSTART:20250820T080000Z
SEQUENCE:0
TRANSP:OPAQUE
DTEND:20251231T090000Z
LOCATION:онлайн в Zoom
SUMMARY:Операционная эффективность и сильны
 й бренд: фундамент успеха современной кл
 иники
CLASS:PUBLIC
DESCRIPTION:Мастер-класс\nОперационная эффект
 ивность и сильный бренд: фундамент успех
 а современной клиники\n
ORGANIZER;CN=СКОЛКОВО:MAILTO:info@skolkovo.ru
DTSTAMP:20260422T154417Z
END:VEVENT
END:VCALENDAR