BEGIN:VCALENDAR
VERSION:2.0
PRODID:skolkovo.ru
X-WR-CALNAME:Creative pitch day: инвестиции в креативны
 е индустрии
X-WR-TIMEZONE:Europe/Moscow
BEGIN:VTIMEZONE
TZID:Europe/Moscow
X-LIC-LOCATION:Europe/Moscow
END:VTIMEZONE
BEGIN:VEVENT
UID:69e8f154c30e7
DTSTART:20250813T070000Z
SEQUENCE:0
TRANSP:OPAQUE
DTEND:20250813T160000Z
LOCATION:Школа управления СКОЛКОВО\, ауд. Кей
 птаун
SUMMARY:Creative pitch day: инвестиции в креативные и
 ндустрии
CLASS:PUBLIC
DESCRIPTION:Дискуссия\nCreative pitch day: инвестиции в
  креативные индустрии\n
ORGANIZER;CN=СКОЛКОВО:MAILTO:info@skolkovo.ru
DTSTAMP:20260422T160332Z
END:VEVENT
END:VCALENDAR