BEGIN:VCALENDAR
VERSION:2.0
PRODID:skolkovo.ru
X-WR-CALNAME:Случай из практики 4.0
X-WR-TIMEZONE:Europe/Moscow
BEGIN:VTIMEZONE
TZID:Europe/Moscow
X-LIC-LOCATION:Europe/Moscow
END:VTIMEZONE
BEGIN:VEVENT
UID:69e8ed1e1d796
DTSTART:20251004T063000Z
SEQUENCE:0
TRANSP:OPAQUE
DTEND:20261004T160000Z
LOCATION:кампус Школы управления СКОЛКОВО
SUMMARY:Случай из практики 4.0
CLASS:PUBLIC
DESCRIPTION:Конференция\nСлучай из практики 4.0\
 n
ORGANIZER;CN=СКОЛКОВО:MAILTO:info@skolkovo.ru
DTSTAMP:20260422T154534Z
END:VEVENT
END:VCALENDAR