BEGIN:VCALENDAR
VERSION:2.0
PRODID:skolkovo.ru
X-WR-CALNAME:Совет директоров: выход на новый у
 ровень
X-WR-TIMEZONE:Europe/Moscow
BEGIN:VTIMEZONE
TZID:Europe/Moscow
X-LIC-LOCATION:Europe/Moscow
END:VTIMEZONE
BEGIN:VEVENT
UID:69e92ee8b4604
DTSTART:20260424T070000Z
SEQUENCE:0
TRANSP:OPAQUE
DTEND:20260904T090000Z
SUMMARY:Совет директоров: выход на новый уро
 вень
CLASS:PUBLIC
DESCRIPTION:Образовательная программа\nСовет 
 директоров: выход на новый уровень\n
ORGANIZER;CN=СКОЛКОВО:MAILTO:info@skolkovo.ru
DTSTAMP:20260422T202616Z
END:VEVENT
END:VCALENDAR