BEGIN:VCALENDAR
VERSION:2.0
PRODID:skolkovo.ru
X-WR-CALNAME:Курс ИИ в маркетинге
X-WR-TIMEZONE:Europe/Moscow
BEGIN:VTIMEZONE
TZID:Europe/Moscow
X-LIC-LOCATION:Europe/Moscow
END:VTIMEZONE
BEGIN:VEVENT
UID:69e7af4517479
DTSTART:20260627T060000Z
SEQUENCE:0
TRANSP:OPAQUE
DTEND:20260628T163000Z
SUMMARY:Курс ИИ в маркетинге
CLASS:PUBLIC
DESCRIPTION:Образовательная программа\nКурс И
 И в маркетинге\n
ORGANIZER;CN=СКОЛКОВО:MAILTO:info@skolkovo.ru
DTSTAMP:20260421T170925Z
END:VEVENT
END:VCALENDAR