BEGIN:VCALENDAR
VERSION:2.0
PRODID:skolkovo.ru
X-WR-CALNAME:Роль человека в управлении на дан
 ных в эпоху AI
X-WR-TIMEZONE:Europe/Moscow
BEGIN:VTIMEZONE
TZID:Europe/Moscow
X-LIC-LOCATION:Europe/Moscow
END:VTIMEZONE
BEGIN:VEVENT
UID:69ea328f4cf6a
DTSTART:20250929T153000Z
SEQUENCE:0
TRANSP:OPAQUE
DTEND:20250929T163000Z
LOCATION:очно\, кампус СКОЛКОВО
SUMMARY:Роль человека в управлении на данных
  в эпоху AI
CLASS:PUBLIC
DESCRIPTION:Презентация программы\nРоль челов
 ека в управлении на данных в эпоху AI\n
ORGANIZER;CN=СКОЛКОВО:MAILTO:info@skolkovo.ru
DTSTAMP:20260423T145407Z
END:VEVENT
END:VCALENDAR