BEGIN:VCALENDAR
VERSION:2.0
PRODID:skolkovo.ru
X-WR-CALNAME:Reunion: цифровой актив и ИИ в медицин
 ском бизнесе
X-WR-TIMEZONE:Europe/Moscow
BEGIN:VTIMEZONE
TZID:Europe/Moscow
X-LIC-LOCATION:Europe/Moscow
END:VTIMEZONE
BEGIN:VEVENT
UID:69e8f160328d4
DTSTART:20251204T070000Z
SEQUENCE:0
TRANSP:OPAQUE
DTEND:20251205T160000Z
SUMMARY:Reunion: цифровой актив и ИИ в медицинск
 ом бизнесе
CLASS:PUBLIC
DESCRIPTION:Образовательная программа\nReunion: ц
 ифровой актив и ИИ в медицинском бизнесе
 \n
ORGANIZER;CN=СКОЛКОВО:MAILTO:info@skolkovo.ru
DTSTAMP:20260422T160344Z
END:VEVENT
END:VCALENDAR