BEGIN:VCALENDAR
VERSION:2.0
PRODID:skolkovo.ru
X-WR-CALNAME:Кросс-функциональные коммуникаци
 и\, которые меняют компании
X-WR-TIMEZONE:Europe/Moscow
BEGIN:VTIMEZONE
TZID:Europe/Moscow
X-LIC-LOCATION:Europe/Moscow
END:VTIMEZONE
BEGIN:VEVENT
UID:69ea8c4973b30
DTSTART:20251027T150000Z
SEQUENCE:0
TRANSP:OPAQUE
DTEND:20251027T160000Z
LOCATION:онлайн
SUMMARY:Кросс-функциональные коммуникации\, 
 которые меняют компании
CLASS:PUBLIC
DESCRIPTION:Вебинар\nКросс-функциональные ком
 муникации\, которые меняют компании\n
ORGANIZER;CN=СКОЛКОВО:MAILTO:info@skolkovo.ru
DTSTAMP:20260423T211657Z
END:VEVENT
END:VCALENDAR