BEGIN:VCALENDAR
VERSION:2.0
PRODID:skolkovo.ru
X-WR-CALNAME:Стратегически важные компетенции
  для управленцев фарминдустрии
X-WR-TIMEZONE:Europe/Moscow
BEGIN:VTIMEZONE
TZID:Europe/Moscow
X-LIC-LOCATION:Europe/Moscow
END:VTIMEZONE
BEGIN:VEVENT
UID:69e8ed17c3b81
DTSTART:20251209T063000Z
SEQUENCE:0
TRANSP:OPAQUE
DTEND:20251209T083000Z
LOCATION:кампус Школы управления СКОЛКОВО
SUMMARY:Стратегически важные компетенции дл
 я управленцев фарминдустрии
CLASS:PUBLIC
DESCRIPTION:Бизнес-завтрак\nСтратегически важ
 ные компетенции для управленцев фарминд
 устрии\n
ORGANIZER;CN=СКОЛКОВО:MAILTO:info@skolkovo.ru
DTSTAMP:20260422T154527Z
END:VEVENT
END:VCALENDAR