BEGIN:VCALENDAR
VERSION:2.0
PRODID:skolkovo.ru
X-WR-CALNAME:Почему кризис — хорошее время зап
 ускать новый бизнес
X-WR-TIMEZONE:Europe/Moscow
BEGIN:VTIMEZONE
TZID:Europe/Moscow
X-LIC-LOCATION:Europe/Moscow
END:VTIMEZONE
BEGIN:VEVENT
UID:69eb3d4a9a1ef
DTSTART:20260429T140000Z
SEQUENCE:0
TRANSP:OPAQUE
DTEND:20260429T153000Z
LOCATION:онлайн
SUMMARY:Почему кризис — хорошее время запус
 кать новый бизнес
CLASS:PUBLIC
DESCRIPTION:Вебинар\nПочему кризис — хорошее в
 ремя запускать новый бизнес\n
ORGANIZER;CN=СКОЛКОВО:MAILTO:info@skolkovo.ru
DTSTAMP:20260424T095210Z
END:VEVENT
END:VCALENDAR