BEGIN:VCALENDAR
VERSION:2.0
PRODID:skolkovo.ru
X-WR-CALNAME:Операционная стратегия: разработ
 ка и реализация
X-WR-TIMEZONE:Europe/Moscow
BEGIN:VTIMEZONE
TZID:Europe/Moscow
X-LIC-LOCATION:Europe/Moscow
END:VTIMEZONE
BEGIN:VEVENT
UID:69e74131676f3
DTSTART:20251211T150000Z
SEQUENCE:0
TRANSP:OPAQUE
DTEND:20251211T160000Z
LOCATION:онлайн-трансляция
SUMMARY:Операционная стратегия: разработка 
 и реализация
CLASS:PUBLIC
DESCRIPTION:Вебинар\nОперационная стратегия: р
 азработка и реализация\n
ORGANIZER;CN=СКОЛКОВО:MAILTO:info@skolkovo.ru
DTSTAMP:20260421T091945Z
END:VEVENT
END:VCALENDAR