BEGIN:VCALENDAR
VERSION:2.0
PRODID:skolkovo.ru
X-WR-CALNAME:Способствует ли искусственный ин
 теллект устойчивому развитию бизнеса?
X-WR-TIMEZONE:Europe/Moscow
BEGIN:VTIMEZONE
TZID:Europe/Moscow
X-LIC-LOCATION:Europe/Moscow
END:VTIMEZONE
BEGIN:VEVENT
UID:69ea8c49707e4
DTSTART:20260123T090000Z
SEQUENCE:0
TRANSP:OPAQUE
DTEND:20260123T110000Z
LOCATION:Школа управления СКОЛКОВО\, аудитор
 ия Bangalore
SUMMARY:Способствует ли искусственный интел
 лект устойчивому развитию бизнеса?
CLASS:PUBLIC
DESCRIPTION:Очное мероприятие\nСпособствует л
 и искусственный интеллект устойчивому р
 азвитию бизнеса?\n
ORGANIZER;CN=СКОЛКОВО:MAILTO:info@skolkovo.ru
DTSTAMP:20260423T211657Z
END:VEVENT
END:VCALENDAR