BEGIN:VCALENDAR
VERSION:2.0
PRODID:skolkovo.ru
X-WR-CALNAME:Данные и ИИ как драйвер роста: что 
 реально меняется в бизнесе
X-WR-TIMEZONE:Europe/Moscow
BEGIN:VTIMEZONE
TZID:Europe/Moscow
X-LIC-LOCATION:Europe/Moscow
END:VTIMEZONE
BEGIN:VEVENT
UID:69ea31881051c
DTSTART:20260302T153000Z
SEQUENCE:0
TRANSP:OPAQUE
DTEND:20260302T163000Z
LOCATION:онлайн\, прямая трансляция
SUMMARY:Данные и ИИ как драйвер роста: что ре
 ально меняется в бизнесе
CLASS:PUBLIC
DESCRIPTION:Презентация программы\nДанные и ИИ
  как драйвер роста: что реально меняется 
 в бизнесе\n
ORGANIZER;CN=СКОЛКОВО:MAILTO:info@skolkovo.ru
DTSTAMP:20260423T144944Z
END:VEVENT
END:VCALENDAR