BEGIN:VCALENDAR
VERSION:2.0
PRODID:skolkovo.ru
X-WR-CALNAME:В чем польза бизнес-образования д
 ля лидера сегодня
X-WR-TIMEZONE:Europe/Moscow
BEGIN:VTIMEZONE
TZID:Europe/Moscow
X-LIC-LOCATION:Europe/Moscow
END:VTIMEZONE
BEGIN:VEVENT
UID:69e90aefb1e73
DTSTART:20260428T070000Z
SEQUENCE:0
TRANSP:OPAQUE
DTEND:20260428T110000Z
LOCATION:Кампус СКОЛКОВО
SUMMARY:В чем польза бизнес-образования для 
 лидера сегодня
CLASS:PUBLIC
DESCRIPTION:Презентация программы\nВ чем польз
 а бизнес-образования для лидера сегодня\
 n
ORGANIZER;CN=СКОЛКОВО:MAILTO:info@skolkovo.ru
DTSTAMP:20260422T175247Z
END:VEVENT
END:VCALENDAR