BEGIN:VCALENDAR
VERSION:2.0
PRODID:skolkovo.ru
X-WR-CALNAME:Международные практики в здравоо
 хранении: Япония
X-WR-TIMEZONE:Europe/Moscow
BEGIN:VTIMEZONE
TZID:Europe/Moscow
X-LIC-LOCATION:Europe/Moscow
END:VTIMEZONE
BEGIN:VEVENT
UID:69e8f0996f509
DTSTART:20261201T070000Z
SEQUENCE:0
TRANSP:OPAQUE
DTEND:20261202T210000Z
SUMMARY:Международные практики в здравоохра
 нении: Япония
CLASS:PUBLIC
DESCRIPTION:Образовательная программа\nМеждун
 ародные практики в здравоохранении: Япо
 ния\n
ORGANIZER;CN=СКОЛКОВО:MAILTO:info@skolkovo.ru
DTSTAMP:20260422T160025Z
END:VEVENT
END:VCALENDAR