BEGIN:VCALENDAR
VERSION:2.0
PRODID:skolkovo.ru
X-WR-CALNAME:Когнитивные ловушки в переговора
 х под давлением
X-WR-TIMEZONE:Europe/Moscow
BEGIN:VTIMEZONE
TZID:Europe/Moscow
X-LIC-LOCATION:Europe/Moscow
END:VTIMEZONE
BEGIN:VEVENT
UID:69eb3d1e672cd
DTSTART:20260513T080000Z
SEQUENCE:0
TRANSP:OPAQUE
DTEND:20260513T090000Z
LOCATION:Онлайн (Zoom)
SUMMARY:Когнитивные ловушки в переговорах п
 од давлением
CLASS:PUBLIC
DESCRIPTION:Вебинар\nКогнитивные ловушки в пер
 еговорах под давлением\n
ORGANIZER;CN=СКОЛКОВО:MAILTO:info@skolkovo.ru
DTSTAMP:20260424T095126Z
END:VEVENT
END:VCALENDAR