BEGIN:VCALENDAR
VERSION:2.0
PRODID:skolkovo.ru
X-WR-CALNAME:LIFT. Разговоры о лидерстве и презен
 тация программы
X-WR-TIMEZONE:Europe/Moscow
BEGIN:VTIMEZONE
TZID:Europe/Moscow
X-LIC-LOCATION:Europe/Moscow
END:VTIMEZONE
BEGIN:VEVENT
UID:69e59018c5d84
DTSTART:20200721T150000Z
SEQUENCE:0
TRANSP:OPAQUE
DTEND:20200721T170000Z
LOCATION:zoom - конференция
SUMMARY:LIFT. Разговоры о лидерстве и презента
 ция программы
CLASS:PUBLIC
DESCRIPTION:Презентация программы\nLIFT. Разгово
 ры о лидерстве и презентация программы\n
ORGANIZER;CN=СКОЛКОВО:MAILTO:info@skolkovo.ru
DTSTAMP:20260420T023152Z
END:VEVENT
END:VCALENDAR