BEGIN:VCALENDAR
VERSION:2.0
PRODID:skolkovo.ru
X-WR-CALNAME:Презентация программы СКОЛКОВО MBA
X-WR-TIMEZONE:Europe/Moscow
BEGIN:VTIMEZONE
TZID:Europe/Moscow
X-LIC-LOCATION:Europe/Moscow
END:VTIMEZONE
BEGIN:VEVENT
UID:69e590402e72c
DTSTART:20200831T170000Z
SEQUENCE:0
TRANSP:OPAQUE
DTEND:20200831T190000Z
LOCATION:трансляция из бизнес-школы СКОЛКОВО
SUMMARY:Презентация программы СКОЛКОВО MBA
CLASS:PUBLIC
DESCRIPTION:Презентация программы\nПрезентаци
 я программы СКОЛКОВО MBA\n
ORGANIZER;CN=СКОЛКОВО:MAILTO:info@skolkovo.ru
DTSTAMP:20260420T023232Z
END:VEVENT
END:VCALENDAR