BEGIN:VCALENDAR
VERSION:2.0
PRODID:skolkovo.ru
X-WR-CALNAME:Презентация программы MOOVE Programme by S
 KOLKOVO x MTS
X-WR-TIMEZONE:Europe/Moscow
BEGIN:VTIMEZONE
TZID:Europe/Moscow
X-LIC-LOCATION:Europe/Moscow
END:VTIMEZONE
BEGIN:VEVENT
UID:69ea3181ccd1f
DTSTART:20201008T163000Z
SEQUENCE:0
TRANSP:OPAQUE
DTEND:20201008T173000Z
LOCATION:youtube-трансляция
SUMMARY:Презентация программы MOOVE Programme by SKOLKO
 VO x MTS
CLASS:PUBLIC
DESCRIPTION:Презентация программы\nПрезентаци
 я программы MOOVE Programme by SKOLKOVO x MTS\n
ORGANIZER;CN=СКОЛКОВО:MAILTO:info@skolkovo.ru
DTSTAMP:20260423T144937Z
END:VEVENT
END:VCALENDAR