BEGIN:VCALENDAR
VERSION:2.0
PRODID:skolkovo.ru
X-WR-CALNAME:Сила чисел: как принимать решения 
 на основе финансовой отчетности
X-WR-TIMEZONE:Europe/Moscow
BEGIN:VTIMEZONE
TZID:Europe/Moscow
X-LIC-LOCATION:Europe/Moscow
END:VTIMEZONE
BEGIN:VEVENT
UID:69e909a5ec468
DTSTART:20201019T153000Z
SEQUENCE:0
TRANSP:OPAQUE
DTEND:20201019T171500Z
LOCATION:трансляция из бизнес-школы СКОЛКОВО
SUMMARY:Сила чисел: как принимать решения на 
 основе финансовой отчетности
CLASS:PUBLIC
DESCRIPTION:Мастер-класс\nСила чисел: как прини
 мать решения на основе финансовой отчет
 ности\n
ORGANIZER;CN=СКОЛКОВО:MAILTO:info@skolkovo.ru
DTSTAMP:20260422T174717Z
END:VEVENT
END:VCALENDAR