BEGIN:VCALENDAR
VERSION:2.0
PRODID:skolkovo.ru
X-WR-CALNAME:Следующий шаг
X-WR-TIMEZONE:Europe/Moscow
BEGIN:VTIMEZONE
TZID:Europe/Moscow
X-LIC-LOCATION:Europe/Moscow
END:VTIMEZONE
BEGIN:VEVENT
UID:69e5a8b02dd4c
DTSTART:20261019T060000Z
SEQUENCE:0
TRANSP:OPAQUE
DTEND:20270331T150000Z
SUMMARY:Следующий шаг
CLASS:PUBLIC
DESCRIPTION:Образовательная программа\nСледую
 щий шаг\n
ORGANIZER;CN=СКОЛКОВО:MAILTO:info@skolkovo.ru
DTSTAMP:20260420T041648Z
END:VEVENT
END:VCALENDAR