BEGIN:VCALENDAR
VERSION:2.0
PRODID:skolkovo.ru
X-WR-CALNAME:Эволюция капитала в России: от час
 тной собственности к общему благу?
X-WR-TIMEZONE:Europe/Moscow
BEGIN:VTIMEZONE
TZID:Europe/Moscow
X-LIC-LOCATION:Europe/Moscow
END:VTIMEZONE
BEGIN:VEVENT
UID:69e96d2b526ce
DTSTART:20210318T070000Z
SEQUENCE:0
TRANSP:OPAQUE
DTEND:20210318T170000Z
SUMMARY:Эволюция капитала в России: от частн
 ой собственности к общему благу?
CLASS:PUBLIC
DESCRIPTION:Конференция\nЭволюция капитала в Р
 оссии: от частной собственности к общему
  благу?\n
ORGANIZER;CN=СКОЛКОВО:MAILTO:info@skolkovo.ru
DTSTAMP:20260423T005155Z
END:VEVENT
END:VCALENDAR