BEGIN:VCALENDAR
VERSION:2.0
PRODID:skolkovo.ru
X-WR-CALNAME:Управление в здравоохранении
X-WR-TIMEZONE:Europe/Moscow
BEGIN:VTIMEZONE
TZID:Europe/Moscow
X-LIC-LOCATION:Europe/Moscow
END:VTIMEZONE
BEGIN:VEVENT
UID:69e5a84cb4d2d
DTSTART:20260416T070000Z
SEQUENCE:0
TRANSP:OPAQUE
DTEND:20260606T150000Z
SUMMARY:Управление в здравоохранении
CLASS:PUBLIC
DESCRIPTION:Образовательная программа\nУправл
 ение в здравоохранении\n
ORGANIZER;CN=СКОЛКОВО:MAILTO:info@skolkovo.ru
DTSTAMP:20260420T041508Z
END:VEVENT
END:VCALENDAR