BEGIN:VCALENDAR
VERSION:2.0
PRODID:skolkovo.ru
X-WR-CALNAME:Женщина FLOW: формирование новой ст
 ратегии развития
X-WR-TIMEZONE:Europe/Moscow
BEGIN:VTIMEZONE
TZID:Europe/Moscow
X-LIC-LOCATION:Europe/Moscow
END:VTIMEZONE
BEGIN:VEVENT
UID:69e8f11aa2bd7
DTSTART:20201127T140000Z
SEQUENCE:0
TRANSP:OPAQUE
DTEND:20201127T153000Z
LOCATION:zoom-конференция
SUMMARY:Женщина FLOW: формирование новой страт
 егии развития
CLASS:PUBLIC
DESCRIPTION:Презентация программы\nЖенщина FLOW:
  формирование новой стратегии развития\n
ORGANIZER;CN=СКОЛКОВО:MAILTO:info@skolkovo.ru
DTSTAMP:20260422T160234Z
END:VEVENT
END:VCALENDAR