BEGIN:VCALENDAR
VERSION:2.0
PRODID:skolkovo.ru
X-WR-CALNAME:Нетворкинг по-женски: как и зачем 
 управлять своим социальным капиталом
X-WR-TIMEZONE:Europe/Moscow
BEGIN:VTIMEZONE
TZID:Europe/Moscow
X-LIC-LOCATION:Europe/Moscow
END:VTIMEZONE
BEGIN:VEVENT
UID:69e8f1539c590
DTSTART:20210211T150000Z
SEQUENCE:0
TRANSP:OPAQUE
DTEND:20210211T170000Z
LOCATION:трансляция из бизнес-школы СКОЛКОВО
SUMMARY:Нетворкинг по-женски: как и зачем упр
 авлять своим социальным капиталом
CLASS:PUBLIC
DESCRIPTION:Мастер-класс\nНетворкинг по-женски
 : как и зачем управлять своим социальным 
 капиталом\n
ORGANIZER;CN=СКОЛКОВО:MAILTO:info@skolkovo.ru
DTSTAMP:20260422T160331Z
END:VEVENT
END:VCALENDAR