BEGIN:VCALENDAR
VERSION:2.0
PRODID:skolkovo.ru
X-WR-CALNAME:Стартап Академия СКОЛКОВО
X-WR-TIMEZONE:Europe/Moscow
BEGIN:VTIMEZONE
TZID:Europe/Moscow
X-LIC-LOCATION:Europe/Moscow
END:VTIMEZONE
BEGIN:VEVENT
UID:69eaa8d60e08b
DTSTART:20260928T050000Z
SEQUENCE:0
TRANSP:OPAQUE
DTEND:20261228T090000Z
SUMMARY:Стартап Академия СКОЛКОВО
CLASS:PUBLIC
DESCRIPTION:Образовательная программа\nСтарта
 п Академия СКОЛКОВО\n
ORGANIZER;CN=СКОЛКОВО:MAILTO:info@skolkovo.ru
DTSTAMP:20260423T231846Z
END:VEVENT
END:VCALENDAR