BEGIN:VCALENDAR
VERSION:2.0
PRODID:skolkovo.ru
X-WR-CALNAME:Как найти в себе смелость быть лид
 ером?
X-WR-TIMEZONE:Europe/Moscow
BEGIN:VTIMEZONE
TZID:Europe/Moscow
X-LIC-LOCATION:Europe/Moscow
END:VTIMEZONE
BEGIN:VEVENT
UID:69e8f11862bd3
DTSTART:20210305T140000Z
SEQUENCE:0
TRANSP:OPAQUE
DTEND:20210305T160000Z
LOCATION:zoom - конференция
SUMMARY:Как найти в себе смелость быть лидер
 ом?
CLASS:PUBLIC
DESCRIPTION:Мастер-класс\nКак найти в себе смел
 ость быть лидером?\n
ORGANIZER;CN=СКОЛКОВО:MAILTO:info@skolkovo.ru
DTSTAMP:20260422T160232Z
END:VEVENT
END:VCALENDAR