BEGIN:VCALENDAR
VERSION:2.0
PRODID:skolkovo.ru
X-WR-CALNAME:Низкоуглеродный диалог
X-WR-TIMEZONE:Europe/Moscow
BEGIN:VTIMEZONE
TZID:Europe/Moscow
X-LIC-LOCATION:Europe/Moscow
END:VTIMEZONE
BEGIN:VEVENT
UID:69e96c2a2c187
DTSTART:20210325T120000Z
SEQUENCE:0
TRANSP:OPAQUE
DTEND:20210326T140000Z
SUMMARY:Низкоуглеродный диалог
CLASS:PUBLIC
DESCRIPTION:Конференция\nНизкоуглеродный диал
 ог\n
ORGANIZER;CN=СКОЛКОВО:MAILTO:info@skolkovo.ru
DTSTAMP:20260423T004738Z
END:VEVENT
END:VCALENDAR