BEGIN:VCALENDAR
VERSION:2.0
PRODID:skolkovo.ru
X-WR-CALNAME:Бизнес-завтрак программы LIFT
X-WR-TIMEZONE:Europe/Moscow
BEGIN:VTIMEZONE
TZID:Europe/Moscow
X-LIC-LOCATION:Europe/Moscow
END:VTIMEZONE
BEGIN:VEVENT
UID:69e5900208312
DTSTART:20210323T070000Z
SEQUENCE:0
TRANSP:OPAQUE
DTEND:20210323T090000Z
LOCATION:Mariott Novy Arbat (Москва\, ул. Новый Арбат\, 
 д. 32)
SUMMARY:Бизнес-завтрак программы LIFT
CLASS:PUBLIC
DESCRIPTION:Бизнес-завтрак\nБизнес-завтрак про
 граммы LIFT\n
ORGANIZER;CN=СКОЛКОВО:MAILTO:info@skolkovo.ru
DTSTAMP:20260420T023130Z
END:VEVENT
END:VCALENDAR