BEGIN:VCALENDAR
VERSION:2.0
PRODID:skolkovo.ru
X-WR-CALNAME:Сколково MBA: время инвестировать в
  себя
X-WR-TIMEZONE:Europe/Moscow
BEGIN:VTIMEZONE
TZID:Europe/Moscow
X-LIC-LOCATION:Europe/Moscow
END:VTIMEZONE
BEGIN:VEVENT
UID:69e59018c5d72
DTSTART:20210325T160000Z
SEQUENCE:0
TRANSP:OPAQUE
DTEND:20210325T180000Z
LOCATION:zoom встреча
SUMMARY:Сколково MBA: время инвестировать в се
 бя
CLASS:PUBLIC
DESCRIPTION:Презентация программы\nСколково MBA
 : время инвестировать в себя\n
ORGANIZER;CN=СКОЛКОВО:MAILTO:info@skolkovo.ru
DTSTAMP:20260420T023152Z
END:VEVENT
END:VCALENDAR