BEGIN:VCALENDAR
VERSION:2.0
PRODID:skolkovo.ru
X-WR-CALNAME:Вечерний ПМЭФ
X-WR-TIMEZONE:Europe/Moscow
BEGIN:VTIMEZONE
TZID:Europe/Moscow
X-LIC-LOCATION:Europe/Moscow
END:VTIMEZONE
BEGIN:VEVENT
UID:69e8f11a267c6
DTSTART:20210602T163000Z
SEQUENCE:0
TRANSP:OPAQUE
DTEND:20210607T170000Z
SUMMARY:Вечерний ПМЭФ
CLASS:PUBLIC
DESCRIPTION:Дискуссия\nВечерний ПМЭФ\n
ORGANIZER;CN=СКОЛКОВО:MAILTO:info@skolkovo.ru
DTSTAMP:20260422T160234Z
END:VEVENT
END:VCALENDAR