BEGIN:VCALENDAR
VERSION:2.0
PRODID:skolkovo.ru
X-WR-CALNAME:Кто ответит за пациентоцентрично
 сть
X-WR-TIMEZONE:Europe/Moscow
BEGIN:VTIMEZONE
TZID:Europe/Moscow
X-LIC-LOCATION:Europe/Moscow
END:VTIMEZONE
BEGIN:VEVENT
UID:69e8ecbfe967c
DTSTART:20210609T110000Z
SEQUENCE:0
TRANSP:OPAQUE
DTEND:20210609T120000Z
LOCATION:YouTube
SUMMARY:Кто ответит за пациентоцентричность
CLASS:PUBLIC
DESCRIPTION:Дискуссия\nКто ответит за пациенто
 центричность\n
ORGANIZER;CN=СКОЛКОВО:MAILTO:info@skolkovo.ru
DTSTAMP:20260422T154359Z
END:VEVENT
END:VCALENDAR