BEGIN:VCALENDAR
VERSION:2.0
PRODID:skolkovo.ru
X-WR-CALNAME:Бизнес-квест: «Как эффективно раб
 отать в виртуальной команде»
X-WR-TIMEZONE:Europe/Moscow
BEGIN:VTIMEZONE
TZID:Europe/Moscow
X-LIC-LOCATION:Europe/Moscow
END:VTIMEZONE
BEGIN:VEVENT
UID:69eb950895750
DTSTART:20210728T160000Z
SEQUENCE:0
TRANSP:OPAQUE
DTEND:20210728T173000Z
LOCATION:YouTube
SUMMARY:Бизнес-квест: «Как эффективно работа
 ть в виртуальной команде»
CLASS:PUBLIC
DESCRIPTION:Мастер-класс\nБизнес-квест: «Как эф
 фективно работать в виртуальной команде
 »\n
ORGANIZER;CN=СКОЛКОВО:MAILTO:info@skolkovo.ru
DTSTAMP:20260424T160632Z
END:VEVENT
END:VCALENDAR