BEGIN:VCALENDAR
VERSION:2.0
PRODID:skolkovo.ru
X-WR-CALNAME:Бизнес-завтрак программы FLOW: Female Le
 aders Opportunities and Wholeness
X-WR-TIMEZONE:Europe/Moscow
BEGIN:VTIMEZONE
TZID:Europe/Moscow
X-LIC-LOCATION:Europe/Moscow
END:VTIMEZONE
BEGIN:VEVENT
UID:69e8f101f34b9
DTSTART:20210824T070000Z
SEQUENCE:0
TRANSP:OPAQUE
DTEND:20210824T093000Z
LOCATION:Marriott. Новый Арбат\, 32
SUMMARY:Бизнес-завтрак программы FLOW: Female Leaders
  Opportunities and Wholeness
CLASS:PUBLIC
DESCRIPTION:Бизнес-завтрак\nБизнес-завтрак про
 граммы FLOW: Female Leaders Opportunities and Wholeness\n
ORGANIZER;CN=СКОЛКОВО:MAILTO:info@skolkovo.ru
DTSTAMP:20260422T160210Z
END:VEVENT
END:VCALENDAR