BEGIN:VCALENDAR
VERSION:2.0
PRODID:skolkovo.ru
X-WR-CALNAME:Как зарабатывать больше с помощью
  аналитики данных?
X-WR-TIMEZONE:Europe/Moscow
BEGIN:VTIMEZONE
TZID:Europe/Moscow
X-LIC-LOCATION:Europe/Moscow
END:VTIMEZONE
BEGIN:VEVENT
UID:69e982673930a
DTSTART:20210825T160000Z
SEQUENCE:0
TRANSP:OPAQUE
DTEND:20210825T173000Z
LOCATION:Zoom-конференция
SUMMARY:Как зарабатывать больше с помощью ан
 алитики данных?
CLASS:PUBLIC
DESCRIPTION:Вебинар\nКак зарабатывать больше с
  помощью аналитики данных?\n
ORGANIZER;CN=СКОЛКОВО:MAILTO:info@skolkovo.ru
DTSTAMP:20260423T022231Z
END:VEVENT
END:VCALENDAR