BEGIN:VCALENDAR
VERSION:2.0
PRODID:skolkovo.ru
X-WR-CALNAME:Презентация программы LIFT. Бизнес-
 завтрак с Андреем Шароновым и выпускник
 ами программы
X-WR-TIMEZONE:Europe/Moscow
BEGIN:VTIMEZONE
TZID:Europe/Moscow
X-LIC-LOCATION:Europe/Moscow
END:VTIMEZONE
BEGIN:VEVENT
UID:69e590020dd0d
DTSTART:20210922T063000Z
SEQUENCE:0
TRANSP:OPAQUE
DTEND:20220922T093000Z
LOCATION:Lotte Hotel\, Новинский бульвар 8\, стр. 2
SUMMARY:Презентация программы LIFT. Бизнес-зав
 трак с Андреем Шароновым и выпускниками 
 программы
CLASS:PUBLIC
DESCRIPTION:Бизнес-завтрак\nПрезентация прогр
 аммы LIFT. Бизнес-завтрак с Андреем Шароно
 вым и выпускниками программы\n
ORGANIZER;CN=СКОЛКОВО:MAILTO:info@skolkovo.ru
DTSTAMP:20260420T023130Z
END:VEVENT
END:VCALENDAR